BEGIN:VCALENDAR
PRODID:NingEventWidget-v1
VERSION:2.0
METHOD:PUBLISH
BEGIN:VEVENT
UID:5167423:Event:315038
DTSTAMP:20260422T135406Z
SUMMARY:Anthracite Region AACA 2023 Car Show
DESCRIPTION:37th annual AACA Car show\n\nFor more information visit ht
 tps://northeastwheelsevents.com/events/anthracite-region-aaca-2023-car
 -show
DTSTART:20230917T120000Z
DTEND:20230917T190000Z
CATEGORIES:37th, annual, car, show
LOCATION:Tri-County Little League Field, McAdoo Pa.
WEBSITE:http://araaca.com
URL:http://araaca.com
CONTACT:717-471-9313
ORGANIZER;CN="Dave Bielen":https://northeastwheelsevents.com/profile/D
 aveBielen
ATTACH;FMTTYPE="image/jpeg":
ATTENDEE;ROLE=REQ-PARTICIPANT;PARTSTAT=ACCEPTED;RSVP=TRUE;CN="Dave Bie
 len":https://northeastwheelsevents.com/profile/DaveBielen
END:VEVENT
END:VCALENDAR
