BEGIN:VCALENDAR
PRODID:NingEventWidget-v1
VERSION:2.0
METHOD:PUBLISH
BEGIN:VEVENT
UID:5167423:Event:18492
DTSTAMP:20260421T211847Z
SUMMARY:Anthracite Region AACA 27th Annual Car Show
DESCRIPTION:Sunday July 7, 2013\nMcAdoo Little League Field, McAdoo, P
 A 18237\nRegistration 8 a.m. to 11:30 a.m.\nJudging 11:30 to 3 p.m.\nA
 wards 3 P.M.\n36 Classes\nPre-registration till June 30: $8.00\nJuly 1
  to day of show: $10.00\nInfo call Joe Forish 570-929-2017\n\nFor more
  information visit https://northeastwheelsevents.com/events/anthracite
 -region-aaca-27th-annual-car-show
DTSTART:20130707T120000Z
DTEND:20130707T200000Z
CATEGORIES:annual, car, show
LOCATION:McAdoo Pa. 18237
WEBSITE:
URL:
CONTACT:Joe Forish 570-929-2017
ORGANIZER:Dave Bielen AACA Treasurer
ATTACH;FMTTYPE="image/jpeg":
ATTENDEE;ROLE=REQ-PARTICIPANT;PARTSTAT=ACCEPTED;RSVP=TRUE;CN="Dave Bie
 len":https://northeastwheelsevents.com/profile/DaveBielen
END:VEVENT
END:VCALENDAR
