BEGIN:VCALENDAR
PRODID:NingEventWidget-v1
VERSION:2.0
METHOD:PUBLISH
BEGIN:VEVENT
UID:5167423:Event:67570
DTSTAMP:20260422T112834Z
SUMMARY:Anthracite Region AACA 30th Annual Car Show
DESCRIPTION:Sunday July 5\nMcAdoo Little League Field, McAdoo Pa. 1823
 7\nRegistration 8 a.m. until Noon; awards @ 2:30 p.m.\nFor more info:\
 ngo to araaca.com or call Joe Forish @ 570-929-2017\n\nFor more inform
 ation visit https://northeastwheelsevents.com/events/anthracite-region
 -aaca-30th-annual-car-show
DTSTART:20150705T040000Z
DTEND:20150706T035900Z
CATEGORIES:car, show
LOCATION:McAdoo, PA. 18237
WEBSITE:http://araaca.com
URL:http://araaca.com
CONTACT:570-929-2017
ORGANIZER:Joe Forish
ATTACH;FMTTYPE="image/jpeg":
ATTENDEE;ROLE=REQ-PARTICIPANT;PARTSTAT=ACCEPTED;RSVP=TRUE;CN="Dave Bie
 len":https://northeastwheelsevents.com/profile/DaveBielen
END:VEVENT
END:VCALENDAR
