BEGIN:VCALENDAR
PRODID:NingEventWidget-v1
VERSION:2.0
METHOD:PUBLISH
BEGIN:VEVENT
UID:5167423:Event:100811
DTSTAMP:20260421T122432Z
SUMMARY:Antique & Classic Car Cruise
DESCRIPTION:Antique & Classic Car Cruise, Topton Community Street Fair
 . Cruise day starts at 8:00am at the tee-ball field in Topton, just of
 f Home Ave. There is no registration fee, however free will donations 
 are appreciated. View a collective group of street rod, classic, muscl
 e, stock, antique cars & trucks. Mingle with the owners and talk shop.
  The rolling cruise throughout Topton begins at 1:00pm. For Car Cruise
  information contact Dennis Seibert 610.682.7718 or Donald Batz 610.68
 2.6291. For Street Fair vendor information contact Jenn Weidman at Top
 tonStreetFair@gmail.com or 610.682.0904. \n\nFor more information vis
 it https://northeastwheelsevents.com/events/antique-classic-car-cruise
DTSTART:20160521T120000Z
DTEND:20160521T190000Z
CATEGORIES:fundraiser
LOCATION:Tee-ball field in Topton
WEBSITE:
URL:
CONTACT:610.682.7718
ORGANIZER:Dennis Seibert
ATTACH;FMTTYPE="image/jpeg":http://storage.ning.com/topology/rest/1.0/
 file/get/2284079441?profile=original
ATTENDEE;ROLE=REQ-PARTICIPANT;PARTSTAT=ACCEPTED;RSVP=TRUE;CN="gretchen
  bender":https://northeastwheelsevents.com/profile/gretchenbender
END:VEVENT
END:VCALENDAR
