BEGIN:VCALENDAR
PRODID:NingEventWidget-v1
VERSION:2.0
METHOD:PUBLISH
BEGIN:VEVENT
UID:5167423:Event:242227
DTSTAMP:20260420T200140Z
SUMMARY:Antique Engine, Tractor and Toy Club, Bowers Pa
DESCRIPTION:All collectors of antique equipment and cars are invited t
 o show and run their equipment. Car gathering Friday evening and antiq
 ue farm equipment all weekend. Tractor parades, flea markets, and plen
 ty of food. Rehrig Brothers live entertainment Saturday and Majestic S
 unday afternoon. Admission and parking free\n\nFor more information vi
 sit https://northeastwheelsevents.com/events/antique-engine-tractor-an
 d-toy-club-1
DTSTART:20190607T200000Z
DTEND:20190609T200000Z
CATEGORIES:34th, annual, show
LOCATION:Delong Memorial Park
WEBSITE:
URL:
CONTACT:6109266209
ORGANIZER;CN="Richard Miller":https://northeastwheelsevents.com/profil
 e/RichardMiller
ATTACH;FMTTYPE="image/jpeg":
ATTENDEE;ROLE=REQ-PARTICIPANT;PARTSTAT=ACCEPTED;RSVP=TRUE;CN="Richard 
 Miller":https://northeastwheelsevents.com/profile/RichardMiller
END:VEVENT
END:VCALENDAR
