BEGIN:VCALENDAR
PRODID:NingEventWidget-v1
VERSION:2.0
METHOD:PUBLISH
BEGIN:VEVENT
UID:5167423:Event:112875
DTSTAMP:20260425T103646Z
SUMMARY:Antique Engine, Tractor and Toy Club
DESCRIPTION:\n\n31st Annual Show   All types of antique running equi
 pment from your grandparents day. Live entertainment Saturday and Sund
 ay afternoon. Parades and children's games. Flea Markets  Garden Trac
 tor pull  Breakfast served by the Lions Club\n  All events free\n\
 n\n\n\n\n\n\n\n\n\n\n\n\n\n\n\n\n\n\n\n\n\n\n\n\n\n\n\n\n\n\nFor more 
 information visit https://northeastwheelsevents.com/events/antique-eng
 ine-tractor-and-toy-club
DTSTART:20160611T040000Z
DTEND:20160613T035900Z
CATEGORIES:community, show
LOCATION:233 Bowers Rd, Bowers Pa
WEBSITE:
URL:
CONTACT:
ORGANIZER;CN="Richard Miller":https://northeastwheelsevents.com/profil
 e/RichardMiller
ATTACH;FMTTYPE="image/jpeg":
ATTENDEE;ROLE=REQ-PARTICIPANT;PARTSTAT=ACCEPTED;RSVP=TRUE;CN="Richard 
 Miller":https://northeastwheelsevents.com/profile/RichardMiller
END:VEVENT
END:VCALENDAR
