BEGIN:VCALENDAR
PRODID:NingEventWidget-v1
VERSION:2.0
METHOD:PUBLISH
BEGIN:VEVENT
UID:5167423:Event:65332
DTSTAMP:20260422T030643Z
SUMMARY:Antique Fire Truck Show
DESCRIPTION:The Southampton Fire Department’s Antique Truck Committe
 e is dusting off their finest historic fire trucks to be shown on the 
 grounds of the Rogers Mansion. The City Service Ladder Truck made in 1
 912 will be a featured attraction. Volunteer firemen and their support
 ers will be offering hot dogs, sodas and T-shirts. Historic firefighti
 ng equipment will be on display and include many of the twin forks his
 toric fire trucks. The Rogers Mansion Museum Complex will also be open
  free of charge that day. Come visit the 12 historic buildings on the 
 Complex which was recently listed on the National Register of Historic
  Places as a unique property. All are welcome to see this once-in-a-li
 fetime, outdoor display of Southampton’s legendary firefighting equi
 pment. Free admission.\n\nFor more information visit https://northeast
 wheelsevents.com/events/antique-fire-truck-show
DTSTART:20150718T130000Z
DTEND:20150718T190000Z
CATEGORIES:family, friendly, antique, show
LOCATION:Rogers Mansion
WEBSITE:http://www.southamptonhistoricalmuseum.org
URL:http://www.southamptonhistoricalmuseum.org
CONTACT:(631) 283-2494
ORGANIZER;CN="Southampton Historical Museum":https://northeastwheelsev
 ents.com/profile/SouthamptonHistoricalMuseum
ATTACH;FMTTYPE="image/jpeg":http://storage.ning.com/topology/rest/1.0/
 file/get/2284070702?profile=original
ATTENDEE;ROLE=REQ-PARTICIPANT;PARTSTAT=ACCEPTED;RSVP=TRUE;CN="Southamp
 ton Historical Museum":https://northeastwheelsevents.com/profile/South
 amptonHistoricalMuseum
END:VEVENT
END:VCALENDAR
