BEGIN:VCALENDAR
PRODID:NingEventWidget-v1
VERSION:2.0
METHOD:PUBLISH
BEGIN:VEVENT
UID:5167423:Event:335416
DTSTAMP:20260422T211106Z
SUMMARY:Apalachin Trunk or Treat
DESCRIPTION:Trunk or Treat is sponsored by The Shangri-La Classic Crui
 zers! Meet at the Waterman\"s Cafe and Tasting Barn on 434 in Apalachi
 n. Bring the family, get some candy and check out some cool cars! Open
  to all collector vehicles! Free and Safe event for the whole family! 
 Dress up and checkout some cool classic cars and Trunk or Treat with t
 he Kids! https://www.watermansbarn.com/\r\nCheck us out: https://www.
 facebook.com/groups/ShangriLasCruizers/\n\nFor more information visit 
 https://northeastwheelsevents.com/events/apalachin-trunk-or-treat
DTSTART:20241025T200000Z
DTEND:20241025T230000Z
CATEGORIES:trunkortreat, cruise-in
LOCATION:Waterman's Cafe and Tasting Barn
WEBSITE:https://www.facebook.com/photo.php?fbid=587134247001042&amp;am
 p;amp;id=100071134157628&amp;amp;amp;set=a.117096460671492
URL:https://www.facebook.com/photo.php?fbid=587134247001042&amp;amp;am
 p;id=100071134157628&amp;amp;amp;set=a.117096460671492
CONTACT:607-258-0274
ORGANIZER:Shangri-La Classic Cruizers
ATTACH;FMTTYPE="image/jpeg":https://storage.ning.com/topology/rest/1.0
 /file/get/13025369873?profile=original
ATTENDEE;ROLE=REQ-PARTICIPANT;PARTSTAT=ACCEPTED;RSVP=TRUE;CN="William 
 Bruce":https://northeastwheelsevents.com/profile/WilliamBruce
END:VEVENT
END:VCALENDAR
