BEGIN:VCALENDAR
PRODID:NingEventWidget-v1
VERSION:2.0
METHOD:PUBLISH
BEGIN:VEVENT
UID:5167423:Event:37340
DTSTAMP:20260423T010450Z
SUMMARY:ARCA Racing Series presented by Menards, Pirelli World Challen
 ge, Trans-Am Series, Pro IT Series
DESCRIPTION:The Weekend of Thunder will feature four exciting racing s
 eries May 31-June 1, 2014. Joining the ARCA Racing Series presented by
  Menards will be the Trans Am Series, Pirelli World Challenge Series, 
 and Fidelity Power Systems SCCA Pro IT Series. The event will mark the
  ARCA Racing Series presented by Menards’ seventh annual visit to so
 uthern New Jersey. Andrew Ranger has captured the series’ last three
  races in New Jersey, fending off the likes of George Miedecke, Chase 
 Elliott, and in 2013, Cherry Hill, N.J. native Tom Hessert. Trans Am, 
 “America’s Road Racing Series” dating back to 1966, makes its fi
 rst trip to Millville since ARCA Racing Series presented by Menards we
 ekend in 2012. A Trans Am Series race is 100 miles in length, and does
  not require a mandatory pit stop for fueling, tires or driver changes
 . As a sprint, it is driver versus driver, and that means its flat out
  racing from start to finish. Past Trans Am champions include Scott Pr
 uett, Scott Sharp, and Boris Said. The series is sanctioned by SCCA Pr
 o Racing. The SCCA Trans Am Series dates back to its first season in 1
 966. In addition,The Pirelli World Challenge was founded in 1985, and 
 holds races at several IndyCar Series, American Le Mans (now TUDOR Uni
 ted SportsCar Championship), and the North American V8 Supercars event
  weekends. The series last ran at Thunderbolt Raceway in 2009 as suppo
 rt with the Grand-Am Rolex Sportscar Series. Also taking part in the w
 eekend’s activities will be the Fidelity Power Systems Pro IT Series
 , which served as support for last season’s ARCA weekend in New Jers
 ey. Pro IT was conceived in late 2007 and kicked off in 2008 with grea
 t success, and has run several weekends at NJMP since – including 20
 12′s Grand-Am Rolex Sports Car Series event.Kids 12 and under are fr
 ee for this event.\n\nFor more information visit https://northeastwhee
 lsevents.com/events/arca-racing-series-presented-by-menards-pirelli-wo
 rld-challenge
DTSTART:20140531T040000Z
DTEND:20140602T035900Z
CATEGORIES:racing
LOCATION:New Jersey Motorsports Park
WEBSITE:http://www.njmp.com
URL:http://www.njmp.com
CONTACT:856-327-8000
ORGANIZER;CN="Chris Banker":https://northeastwheelsevents.com/profile/
 ChrisBanker
ATTACH;FMTTYPE="image/jpeg":http://storage.ning.com/topology/rest/1.0/
 file/get/2284054821?profile=original
ATTENDEE;ROLE=REQ-PARTICIPANT;PARTSTAT=ACCEPTED;RSVP=TRUE;CN="Chris Ba
 nker":https://northeastwheelsevents.com/profile/ChrisBanker
END:VEVENT
END:VCALENDAR
