BEGIN:VCALENDAR
PRODID:NingEventWidget-v1
VERSION:2.0
METHOD:PUBLISH
BEGIN:VEVENT
UID:5167423:Event:111863
DTSTAMP:20260425T090144Z
SUMMARY:Asset Protection LTD Parts-a-Rama
DESCRIPTION:Come by Parts-a-Rama in Transfer, PA, hosted by Asset Prot
 ection LTD.\n\nClassic and Antique cars and Hot Rods all welcome\nat o
 ur car show, swap meet, and parts flea market.\n\nVendors welcome, too
 !\nVENDOR%20CONTRACT%20%283%29.pdf\n\nFor more information visit https
 ://northeastwheelsevents.com/events/asset-protection-ltd-parts-a-rama
DTSTART:20160609T120000Z
DTEND:20160611T220000Z
CATEGORIES:"swap meet", "car show"
LOCATION:Transfer Harvest Fairgrounds
WEBSITE:
URL:
CONTACT:814-860-3101
ORGANIZER:Asset Protection LTD
ATTACH;FMTTYPE="image/jpeg":http://storage.ning.com/topology/rest/1.0/
 file/get/2284087637?profile=original
ATTENDEE;ROLE=REQ-PARTICIPANT;PARTSTAT=ACCEPTED;RSVP=TRUE;CN="Daniel D
 e Felippis":https://northeastwheelsevents.com/profile/DanielDeFelippis
END:VEVENT
END:VCALENDAR
