BEGIN:VCALENDAR
PRODID:NingEventWidget-v1
VERSION:2.0
METHOD:PUBLISH
BEGIN:VEVENT
UID:5167423:Event:170336
DTSTAMP:20260424T033607Z
SUMMARY:02Atlantic City Auction and Car Show
DESCRIPTION:GPK Auctions is proud to present the 45th annual Atlantic 
 City Auction and Car Show. The auction has grown to be an annual three
  day event auctioning off over 400 cars in the spacious 500,000 sq ft.
  state-of-the-art Atlantic City Convention Center.\n\nAlong with the a
 uction, guests are able to enjoy a wide variety of vendors, a vast arr
 ay of vehicles available for sale in the car corral, and the best casi
 nos, restaurants, and shopping that Atlantic City has to offer.\n\nEve
 nt Hours:\n2/9/18 Friday 9:00am - 7:00pm 2/10/18 Saturday 9:00am - 7:0
 0pm 2/11/18 Sunday 9:00am - 5:00pm\n\nFind GPK Auctions on Facebook at
  https://www.facebook.com/acclassiccarauction/\n\nFind the 2018 event
  at https://www.facebook.com/events/1539221329492629/\n\nFor more inf
 ormation visit https://northeastwheelsevents.com/events/atlantic-city-
 auction-and-car-show
DTSTART:20180210T140000Z
DTEND:20180211T000000Z
CATEGORIES:classic, car, auction
LOCATION:Atlantic City Convention Center
WEBSITE:https://www.google.com/maps?ll=39.363129,-74.44005&amp;amp;amp
 ;amp;z=14&amp;amp;amp;amp;t=m&amp;amp;amp;amp;hl=en&amp;amp;amp;amp;gl
 =US&amp;amp;amp;amp;mapclient=embed&amp;amp;amp;amp;q=1+Convention+Blv
 d+Atlantic+City,+NJ+08401
URL:https://www.google.com/maps?ll=39.363129,-74.44005&amp;amp;amp;amp
 ;z=14&amp;amp;amp;amp;t=m&amp;amp;amp;amp;hl=en&amp;amp;amp;amp;gl=US&
 amp;amp;amp;amp;mapclient=embed&amp;amp;amp;amp;q=1+Convention+Blvd+At
 lantic+City,+NJ+08401
CONTACT:856-573-6969
ORGANIZER:GPK Auctions
ATTACH;FMTTYPE="image/jpeg":http://storage.ning.com/topology/rest/1.0/
 file/get/2284100495?profile=original
ATTENDEE;ROLE=REQ-PARTICIPANT;PARTSTAT=ACCEPTED;RSVP=TRUE;CN="Carolyn 
 Gerding":https://northeastwheelsevents.com/profile/CarolynGerding
END:VEVENT
END:VCALENDAR
