BEGIN:VCALENDAR
PRODID:NingEventWidget-v1
VERSION:2.0
METHOD:PUBLISH
BEGIN:VEVENT
UID:5167423:Event:139224
DTSTAMP:20260423T172710Z
SUMMARY:Atlantic City Auction & Car Show
DESCRIPTION:GPK Auctions is proud to present the 44th annual Atlantic 
 City Auction & Car Show. The auction has grown to be an annual three d
 ay event auctioning off over 400 cars in the spacious 500,000 sq ft. s
 tate-of-the-art Atlantic City Convention Center. Along with the auctio
 n, guests are able to enjoy a wide variety of vendors, a vast array of
  vehicles available for sale in the car corral, and the best casinos, 
 restaurants, and shopping that Atlantic City has to offer.\n\nFor more
  information visit https://northeastwheelsevents.com/events/atlantic-c
 ity-auction-car-show
DTSTART:20170210T140000Z
DTEND:20170212T220000Z
CATEGORIES:car, auction
LOCATION:Atlantic City Convention Center
WEBSITE:https://www.google.com/maps/place/Atlantic+City+Convention+Cen
 ter/@39.3630994,-74.4407521,17z/data=!3m1!4b1!4m5!3m4!1s0x89c0ee436712
 0711:0x804ed2f224a1a89a!8m2!3d39.3630994!4d-74.4385634
URL:https://www.google.com/maps/place/Atlantic+City+Convention+Center/
 @39.3630994,-74.4407521,17z/data=!3m1!4b1!4m5!3m4!1s0x89c0ee4367120711
 :0x804ed2f224a1a89a!8m2!3d39.3630994!4d-74.4385634
CONTACT:856-573-6969
ORGANIZER;CN="GPK Auctions":https://northeastwheelsevents.com/profile/
 GiselleChecetto
ATTACH;FMTTYPE="image/jpeg":http://storage.ning.com/topology/rest/1.0/
 file/get/2284092115?profile=original
ATTENDEE;ROLE=REQ-PARTICIPANT;PARTSTAT=ACCEPTED;RSVP=TRUE;CN="GPK Auct
 ions":https://northeastwheelsevents.com/profile/GiselleChecetto
END:VEVENT
END:VCALENDAR
