BEGIN:VCALENDAR
PRODID:NingEventWidget-v1
VERSION:2.0
METHOD:PUBLISH
BEGIN:VEVENT
UID:5167423:Event:76931
DTSTAMP:20260421T060237Z
SUMMARY:Atlantic Highlands Car Show
DESCRIPTION:This annual show is family friendly and welcomes all types
  of cars and trucks. Â The show runs along First Avenue in Downtown At
 lantic Highlands, NJ 07716. Â The 2014 show had 127 cars and trucks. Â
  Two live stages of music all day long. Â The show is on pavement so y
 our car will stay clean, and there are public handicapped accessible r
 estrooms available. Â There are goody bags given to all registered par
 ticipants, and we have 14 categories of trophies that are awarded at t
 he show. We feature vendors, local shops, galleries, restaurants all o
 pen for your enjoyment. Â Parking/registration the day of the show is 
 8-10am and the show is from 10-4pm. You can print a form and mail in t
 o preregister at Atlantichighlands.org/events/car-show or pick one up 
 at Vintage Variety Shop. 76 First Ave. AH, NJ 07716 for $15, if mailed
  then it must be reached by us before the day of the show. Â Pre-regis
 trations can be handed into the shop location by Thursday 6/18. Â Othe
 rwise you can register the day of the show for $20. Â Please call Mere
 dith with questions (347)528-5372\n\nFor more information visit https:
 //northeastwheelsevents.com/events/atlantic-highlands-car-show
DTSTART:20150620T120000Z
DTEND:20150620T200000Z
CATEGORIES:car, show
LOCATION:First Ave. Downtown Atlantic Highlands
WEBSITE:
URL:
CONTACT:3475285372
ORGANIZER;CN="Meredith Peltz":https://northeastwheelsevents.com/profil
 e/MeredithPeltz958
ATTACH;FMTTYPE="image/jpeg":http://storage.ning.com/topology/rest/1.0/
 file/get/2284072350?profile=original
ATTENDEE;ROLE=REQ-PARTICIPANT;PARTSTAT=ACCEPTED;RSVP=TRUE;CN="Meredith
  Peltz":https://northeastwheelsevents.com/profile/MeredithPeltz958
END:VEVENT
END:VCALENDAR
