BEGIN:VCALENDAR
PRODID:NingEventWidget-v1
VERSION:2.0
METHOD:PUBLISH
BEGIN:VEVENT
UID:5167423:Event:148886
DTSTAMP:20260420T165820Z
SUMMARY:Atlantic Highlands Chamber of Commerce Classic Car Show
DESCRIPTION:Our beautiful downtown’s main street will be closed for 
 the event and will be filled with classic and vintage cars.We again wi
 ll have over 100 classic cars, vendors, bands, goodie bags for partici
 pants, trophies, prizes and assorted entertainment. Rain date June 11,
  10-4\n\nFor more information visit https://northeastwheelsevents.com/
 events/atlantic-highlands-chamber-of-commerce-classic-car-show
DTSTART:20170610T140000Z
DTEND:20170610T200000Z
CATEGORIES:car, show
LOCATION:Atlantic Highlands, NJ
WEBSITE:
URL:
CONTACT:Corinna@brightworkevents.com or by phone at 908-692-4457.
ORGANIZER:Brightworks Events
ATTACH;FMTTYPE="image/jpeg":
ATTENDEE;ROLE=REQ-PARTICIPANT;PARTSTAT=ACCEPTED;RSVP=TRUE;CN="Pamela H
 irschhorn":https://northeastwheelsevents.com/profile/PamelaHirschhorn
END:VEVENT
END:VCALENDAR
