BEGIN:VCALENDAR
PRODID:NingEventWidget-v1
VERSION:2.0
METHOD:PUBLISH
BEGIN:VEVENT
UID:5167423:Event:199084
DTSTAMP:20260425T074620Z
SUMMARY:Auburn Heights Invitational Historic Auto Display
DESCRIPTION:The annualÂ Auburn Heights InvitationalÂ features an excep
 tional array of historic automobiles from the classic era. This yearâ€
 ™s fundraiser event includes a spotlight display onÂ Phaetons & Conver
 tible Sedans, alongside a broad representation of high-end motor cars 
 from the dawn of the automotive age through 1942. Selection is based o
 n significance of the marque, authenticity, presentation and the histo
 ry of the vehicle. Limited to approximately 20-25 autos, the Auburn He
 ights Invitational offers a rare opportunity to compare and contrast e
 arly and later classic-era vehicles â€” all at the elegant Auburn Heig
 hts estate. This is also an excellent opportunity to see the museumâ€™
 s current exhibitÂ Letting Off Steam: The Stanley Legacy.Â \n\nFunds r
 aised from the annual event benefit the Marshall Steam Museum and Frie
 nds of Auburn Heights Preserve (FAHP), a 501c3 nonprofit organization 
 dedicated to preserving and operating the extraordinary collections en
 trusted to its care.\n\nFor more information visit https://northeastwh
 eelsevents.com/events/auburn-heights-invitational-historic-auto-displa
 y-1
DTSTART:20180923T163000Z
DTEND:20180923T203000Z
CATEGORIES:fundraiser
LOCATION:Auburn Heights Preserve
WEBSITE:http://auburnheights.org/visit/ahi/
URL:http://auburnheights.org/visit/ahi/
CONTACT:3022392385
ORGANIZER:Marshall Steam Museum
ATTACH;FMTTYPE="image/jpeg":http://storage.ning.com/topology/rest/1.0/
 file/get/2284109360?profile=original
ATTENDEE;ROLE=REQ-PARTICIPANT;PARTSTAT=ACCEPTED;RSVP=TRUE;CN="Susan Ra
 ndolph":https://northeastwheelsevents.com/profile/SusanRandolph
END:VEVENT
END:VCALENDAR
