BEGIN:VCALENDAR
PRODID:NingEventWidget-v1
VERSION:2.0
METHOD:PUBLISH
BEGIN:VEVENT
UID:5167423:Event:79351
DTSTAMP:20260422T013849Z
SUMMARY:Augie Spadone
DESCRIPTION:5th Annual Car and Bike Show.\nCar show plaques.\nEntry fe
 e by donation only.\n$5.00 Festival coupon given to the first 50 to en
 ter.\nFun trophies will be awarded.\n\nFor more information visit http
 s://northeastwheelsevents.com/events/augie-spadone
DTSTART:20150709T200000Z
DTEND:20150710T000000Z
CATEGORIES:seven, sorrows, community, festival, car, show
LOCATION:Middletown, PA
WEBSITE:
URL:
CONTACT:717 877-4131
ORGANIZER;CN="SEVEN SORROWS CAR SHOW":https://northeastwheelsevents.co
 m/profile/AugieSpadone
ATTACH;FMTTYPE="image/jpeg":
ATTENDEE;ROLE=REQ-PARTICIPANT;PARTSTAT=ACCEPTED;RSVP=TRUE;CN="SEVEN SO
 RROWS CAR SHOW":https://northeastwheelsevents.com/profile/AugieSpadone
END:VEVENT
END:VCALENDAR
