BEGIN:VCALENDAR
PRODID:NingEventWidget-v1
VERSION:2.0
METHOD:PUBLISH
BEGIN:VEVENT
UID:5167423:Event:88734
DTSTAMP:20260425T133450Z
SUMMARY:Ault Park Concours d\"Elegance
DESCRIPTION:OHIO: World class exhibition in motoring excellence presen
 ting over 200 collector cars and motorcycles. The 2016 event featured 
 marque is An Italian Icon - Ferrari. Special displays include the 100 
 years of BMW, The Cars of Donald Healey, All-American Workhorse – Th
 e Pickup Truck and 50th Anniversary of Ford GT40 1-2-3 Sweep of LeMans
 . The 2016 Concours will also include 13 classes of classic, vintage a
 nd exotic automobiles and motorcycles. Call 513-321-1951 or visit www.
 ohioconcours.com for further details or to nominate your vehicle.\nCOS
 T: Pre-sale tickets $20 single or 4/$60. Admission at gate is $25 adul
 ts, $15 student with ID, kids 12 & under free.\n \n\nFor more informa
 tion visit https://northeastwheelsevents.com/events/ault-park-concours
 -d-elegance
DTSTART:20160612T140000Z
DTEND:20160612T200000Z
CATEGORIES:car, show
LOCATION:Ault Park
WEBSITE:http://www.ohioconcours.com
URL:http://www.ohioconcours.com
CONTACT:513-321-1951
ORGANIZER:Cincinnati Concours Foundation
ATTACH;FMTTYPE="image/jpeg":http://storage.ning.com/topology/rest/1.0/
 file/get/2284079722?profile=original
ATTENDEE;ROLE=REQ-PARTICIPANT;PARTSTAT=ACCEPTED;RSVP=TRUE;CN="Ault Par
 k Concours d'Elegance":https://northeastwheelsevents.com/profile/AultP
 arkConcoursdElegance
END:VEVENT
END:VCALENDAR
