BEGIN:VCALENDAR
PRODID:NingEventWidget-v1
VERSION:2.0
METHOD:PUBLISH
BEGIN:VEVENT
UID:5167423:Event:39800
DTSTAMP:20260424T070743Z
SUMMARY:AUTO FEST 2014
DESCRIPTION:AUTO FEST 2014\n\nFor more information visit https://north
 eastwheelsevents.com/events/auto-fest-2014
DTSTART:20140412T040000Z
DTEND:20140413T035900Z
CATEGORIES:benefit, car, show
LOCATION:Synergy Community Church
WEBSITE:http://www.cmhd.webs.com
URL:http://www.cmhd.webs.com
CONTACT:443-322-4670
ORGANIZER;CN="Joe Buccheri":https://northeastwheelsevents.com/profile/
 JoeBuccheri
ATTACH;FMTTYPE="image/jpeg":http://storage.ning.com/topology/rest/1.0/
 file/get/2284056686?profile=original
ATTENDEE;ROLE=REQ-PARTICIPANT;PARTSTAT=ACCEPTED;RSVP=TRUE;CN="Joe Bucc
 heri":https://northeastwheelsevents.com/profile/JoeBuccheri
END:VEVENT
END:VCALENDAR
