BEGIN:VCALENDAR
PRODID:NingEventWidget-v1
VERSION:2.0
METHOD:PUBLISH
BEGIN:VEVENT
UID:5167423:Event:219715
DTSTAMP:20260421T211735Z
SUMMARY:Auto Mania
DESCRIPTION:For more than two decades, Auto Mania has been Pennsylvani
 a's biggest indoor heated automotive flea market and the tradition con
 tinues this year with support from Carlisle Events. The 59,000 square 
 foot facility that is Agri-Plex at the Allentown PA Fairgrounds plays 
 host to a wide array of vendors and attendees annually. This event is 
 a great opportunity to interact with likeminded enthusiasts in a famil
 y friendly atmosphere and is the perfect setting to buy, sell and trad
 e all things automotive. There's a great array of parts, literature, s
 ervices and more. Best of all, you're less than two hours from New Yor
 k City, Philadelphia and Scranton with major roads like I-78, the Penn
 sylvania Turnpike and Route 22 all nearby. This event takes place no m
 atter the weather and won't cancel, be postponed or rescheduled under 
 any circumstance. Consider spending your weekend with Carlisle Events 
 in Allentown for Auto Mania and jumpstart the New Year with great auto
 motive excitement. *Admission tickets to Auto Mania will be available
  for purchase at the Allentown Fairgrounds.*\n\nFor more information v
 isit https://northeastwheelsevents.com/events/auto-mania-1
DTSTART:20190118T050000Z
DTEND:20190121T045900Z
CATEGORIES:automotive, flea, market
LOCATION:Allentown PA Fairgrounds
WEBSITE:http://www.carlisleevents.com/carlisle-events/automania/defaul
 t.aspx
URL:http://www.carlisleevents.com/carlisle-events/automania/default.as
 px
CONTACT:7172437855
ORGANIZER:Carlisle Events
ATTACH;FMTTYPE="image/jpeg":http://storage.ning.com/topology/rest/1.0/
 file/get/2284112739?profile=original
ATTENDEE;ROLE=REQ-PARTICIPANT;PARTSTAT=ACCEPTED;RSVP=TRUE;CN="Carlisle
  Events":https://northeastwheelsevents.com/profile/MichaelGarland
END:VEVENT
END:VCALENDAR
