BEGIN:VCALENDAR
PRODID:NingEventWidget-v1
VERSION:2.0
METHOD:PUBLISH
BEGIN:VEVENT
UID:5167423:Event:281341
DTSTAMP:20260425T140114Z
SUMMARY:Auto Mania
DESCRIPTION:For more than 30 years, Auto Mania has been Pennsylvaniaâ€
 ™s largest indoor heated automotive Flea Market. Auto Mania returns in
  2021, however this yearâ€™s event is moving to the Carlisle Expo Cent
 er in Carlisle, PA for 2021 ONLY. Auto Mania will return to Allentown,
  PA in 2022. With an urgent appeal to pickers, flippers, investors and
  collectors, Auto Mania is an automotive treasure hunt to locate every
 thing you need to prepare for your winter projects! The 150+ spaces sh
 owcase parts, services, new products, memorabilia items, tires, access
 ories, car care products, tools, vintage advertising, collectibles and
  so much more. The spectrum of diversity should appeal to those gettin
 g warmed up for Carlisle Events season!\n\nFor more information visit 
 https://northeastwheelsevents.com/events/auto-mania-3
DTSTART:20210115T170000Z
DTEND:20210117T200000Z
CATEGORIES:swap, meet
LOCATION:Carlisle Expo Center
WEBSITE:https://carlisleevents.com/events/events-detail/index?id=auto+
 mania+carlisle
URL:https://carlisleevents.com/events/events-detail/index?id=auto+mani
 a+carlisle
CONTACT:717-243-7855
ORGANIZER:Carlisle Events
ATTACH;FMTTYPE="image/jpeg":
ATTENDEE;ROLE=REQ-PARTICIPANT;PARTSTAT=ACCEPTED;RSVP=TRUE;CN="steve sw
 oren":https://northeastwheelsevents.com/profile/stevesworen
ATTENDEE;ROLE=REQ-PARTICIPANT;PARTSTAT=ACCEPTED;RSVP=TRUE;CN="Carlisle
  Events":https://northeastwheelsevents.com/profile/MichaelGarland
END:VEVENT
END:VCALENDAR
