BEGIN:VCALENDAR
PRODID:NingEventWidget-v1
VERSION:2.0
METHOD:PUBLISH
BEGIN:VEVENT
UID:5167423:Event:295022
DTSTAMP:20260425T184229Z
SUMMARY:Auto Mania
DESCRIPTION:For more than 30 years, Auto Mania has been Pennsylvaniaâ€
 ™s largest indoor heated automotiveÂ flea market. Auto ManiaÂ offers a
 nything and everything an automotive enthusiast could want. The 200+ s
 paces showcase parts, literature, services, new products, memorabilia 
 items, tires, accessories, car care products, sheet metal, rubber & we
 ather stripping, tools, collectibles and so much more.Â It does not ma
 tter if you are a vendor orÂ picker, the sold-out vending base within 
 the Allentown Agri-Plex offers a little bit of something for everyone.
 Â \n\nFor more information visit https://northeastwheelsevents.com/eve
 nts/auto-mania-4
DTSTART:20220114T170000Z
DTEND:20220116T200000Z
CATEGORIES:swap, meet
LOCATION:Allentown PA Fairgrounds
WEBSITE:https://carlisleevents.com/events/events-detail/index?id=auto+
 mania
URL:https://carlisleevents.com/events/events-detail/index?id=auto+mani
 a
CONTACT:717-243-7855
ORGANIZER:Carlisle Events
ATTACH;FMTTYPE="image/jpeg":https://storage.ning.com/topology/rest/1.0
 /file/get/9680758676?profile=original
ATTENDEE;ROLE=REQ-PARTICIPANT;PARTSTAT=ACCEPTED;RSVP=TRUE;CN="Carlisle
  Events":https://northeastwheelsevents.com/profile/MichaelGarland
END:VEVENT
END:VCALENDAR
