BEGIN:VCALENDAR
PRODID:NingEventWidget-v1
VERSION:2.0
METHOD:PUBLISH
BEGIN:VEVENT
UID:5167423:Event:336450
DTSTAMP:20260424T194853Z
SUMMARY:Auto Mania
DESCRIPTION:\r\n\r\nAuto Mania Indoor Collector Car Flea Market & Corr
 al\r\nALLENTOWN PA FAIRGROUNDS • The THRILL of the HUNT! Since 1990
 , Auto Mania has been Pennsylvania’s largest indoor heated automotiv
 e Flea Market. With continued support from Carlisle Events, old school
  collectors are turning collections into cash. This can be you!\r\n\r\
 nAuto Mania, running from January 17-19, 2025, is Pennsylvania's large
 st indoor heated automotive flea market, with over 30 years of history
 . This event offers a prime opportunity for pickers, flippers, investo
 rs, and collectors to find new and untouched automotive merchandise. A
 ttendees can explore a broad selection of automotive items, making it 
 a must-visit for anyone looking to expand their collection during the 
 winter months. In addition to the wide array of automotive merchandise
 , the event features a car corral where vehicles are available for sal
 e.\r\n\r\nWhen: January 17 to January 19, 2025 Friday: 12PM 9PM, Satu
 rday: 9AM 6PM, Sunday: 9AM 3PM\r\n\r\nLocation:\r\nAllentown Fairgroun
 ds - 302 N 17th St\r\nCarlisle, PA 18104\r\n\r\nCost: Daily Price: $1
 0, Kids 12 and under are FREE Online tickets discounted.\r\nTo Registe
 r: Click here for more information or call Carlisle Events at 1-717
 -243-7855 or e-mail us hmnmail@hemmings.com\n\nFor more information
  visit https://northeastwheelsevents.com/events/auto-mania-8
DTSTART:20250117T140000Z
DTEND:20250120T020000Z
CATEGORIES:carcorral, autoparts
LOCATION:Allentown Agri-Plex- Allentown Fairgrounds
WEBSITE:https://www.hemmings.com/events/detail?listing_id=64726
URL:https://www.hemmings.com/events/detail?listing_id=64726
CONTACT:1-717-243-7855
ORGANIZER:Carlisle Events
ATTACH;FMTTYPE="image/jpeg":https://storage.ning.com/topology/rest/1.0
 /file/get/13360892653?profile=original
ATTENDEE;ROLE=REQ-PARTICIPANT;PARTSTAT=ACCEPTED;RSVP=TRUE;CN="William 
 Bruce":https://northeastwheelsevents.com/profile/WilliamBruce
END:VEVENT
END:VCALENDAR
