BEGIN:VCALENDAR
PRODID:NingEventWidget-v1
VERSION:2.0
METHOD:PUBLISH
BEGIN:VEVENT
UID:5167423:Event:335787
DTSTAMP:20260424T194658Z
SUMMARY:Auto Parts Swap 'n Sell
DESCRIPTION:\r\nFor over 40 years, the Autoparts Swap n Sell has been 
 a treasured tradition in the automotive community. Join us for New Eng
 lands largest indoor auto swap meet, featuring tons of vendors offerin
 g unbeatable deals on new and used auto parts, tools, accessories, and
  automobilia for all motorsports enthusiasts. Plus, dont miss our Car 
 Corral, where you can find unique special interest cars for sale. What
 s New: In 2025, were excited to introduce a Garage Sale space for indi
 viduals looking to sell their treasures.\r\n\r\nWhen: January 18 to J
 anuary 19, 2025 8 AM - 5 PM\r\n\r\nLocation:\r\n1305 Memorial Ave.\r\n
 W Springfield, MA 01089\r\n\r\nCost: $15 Each Day, Kids 12 & Under: F
 ree with paid adult\r\nTo Register: Click here for more information 
 or call Start/Finish Productions at 1-860-871-6376 or call Ben Dodg
 e at 1-860-268-1787 or e-mail us, hmnmail@hemmings.com\n\nFor more i
 nformation visit https://northeastwheelsevents.com/events/auto-parts-s
 wap-n-sell
DTSTART:20250118T130000Z
DTEND:20250119T220000Z
CATEGORIES:swap-meet, car-corral
LOCATION:Young Building
WEBSITE:https://www.hemmings.com/events/detail?listing_id=64747
URL:https://www.hemmings.com/events/detail?listing_id=64747
CONTACT:1-860-871-6376
ORGANIZER:Start/Finish Productions
ATTACH;FMTTYPE="image/jpeg":https://storage.ning.com/topology/rest/1.0
 /file/get/13123213677?profile=original
ATTENDEE;ROLE=REQ-PARTICIPANT;PARTSTAT=ACCEPTED;RSVP=TRUE;CN="William 
 Bruce":https://northeastwheelsevents.com/profile/WilliamBruce
END:VEVENT
END:VCALENDAR
