BEGIN:VCALENDAR
PRODID:NingEventWidget-v1
VERSION:2.0
METHOD:PUBLISH
BEGIN:VEVENT
UID:5167423:Event:139216
DTSTAMP:20260423T190939Z
SUMMARY:Automania, Allentown PA
DESCRIPTION:For more than two decades, Auto Mania has been Pennsylvani
 a's biggest indoor heated swap meet and the tradition continues this y
 ear with support from Carlisle Events. CALL FOR COMPLETE INFORMATION\n
 \nFor more information visit https://northeastwheelsevents.com/events/
 automania-allentown-pa
DTSTART:20170120T170000Z
DTEND:20170122T200000Z
CATEGORIES:swap, meet
LOCATION:Allentown Fairgrounds
WEBSITE:http://www.carlisleevents.com/carlisle-events/automania/defaul
 t.aspx
URL:http://www.carlisleevents.com/carlisle-events/automania/default.as
 px
CONTACT:717.243.7855
ORGANIZER:Carlisle Events
ATTACH;FMTTYPE="image/jpeg":http://storage.ning.com/topology/rest/1.0/
 file/get/2284091734?profile=original
ATTENDEE;ROLE=REQ-PARTICIPANT;PARTSTAT=ACCEPTED;RSVP=TRUE;CN="Pamela H
 irschhorn":https://northeastwheelsevents.com/profile/PamelaHirschhorn
END:VEVENT
END:VCALENDAR
