BEGIN:VCALENDAR
PRODID:NingEventWidget-v1
VERSION:2.0
METHOD:PUBLISH
BEGIN:VEVENT
UID:5167423:Event:22993
DTSTAMP:20260423T170130Z
SUMMARY:AutoMat Customizing & Restoration’s 57th Anniversary Car Sho
 w
DESCRIPTION:\n\nFor more information visit https://northeastwheelseven
 ts.com/events/automat-customizing-restoration-s-57th-anniversary-car-s
 how
DTSTART:20130615T120000Z
DTEND:20130615T180000Z
CATEGORIES:car, show
LOCATION:Auto Mat, Hicksville,NY
WEBSITE:http://www.automat.tv
URL:http://www.automat.tv
CONTACT:516 938-7373
ORGANIZER:Auto Mat
ATTACH;FMTTYPE="image/jpeg":http://storage.ning.com/topology/rest/1.0/
 file/get/2284050496?profile=original
ATTENDEE;ROLE=REQ-PARTICIPANT;PARTSTAT=ACCEPTED;RSVP=TRUE;CN="Pamela H
 irschhorn":https://northeastwheelsevents.com/profile/PamelaHirschhorn
END:VEVENT
END:VCALENDAR
