BEGIN:VCALENDAR
PRODID:NingEventWidget-v1
VERSION:2.0
METHOD:PUBLISH
BEGIN:VEVENT
UID:5167423:Event:75402
DTSTAMP:20260421T093102Z
SUMMARY:AutoMat Customizing & Restoration’s 59th Anniversary Car Sho
 w
DESCRIPTION:•300+ customs, classics, antiques, exotics, sports & lux
 ury cars & trucks •Bring a camera for pictures with the AutoMat Girl
 s! •No entrance or spectator fee •No pre-registration needed •DJ
  •Live performances •Food vendor  •Facility tours: Come see why
  AutoMat has been recognized by SEMA as Trimmer of the Year -the Natio
 n’s leader in auto restoration & customizing, including interiors,  
 tops, mechanical, electrical, paint, body, audio, wheels, restyling & 
 more  For more information on the show:Call (516)938-7373 (M-F 8am-5pm
  or Sat 8-1) or email autointeriors@optonline.net\n\nSee web site for 
 weather updates. (Rain dates: 6/27 & 7/11)  This is a fun show -we hop
 e to see you here!\n\nFor more information visit https://northeastwhee
 lsevents.com/events/automat-customizing-restoration-s-59th-anniversary
 -car-show
DTSTART:20150620T120000Z
DTEND:20150620T180000Z
CATEGORIES:59th, anniversary, car, show, "&", party
LOCATION:Surrounding AutoMat's facility
WEBSITE:http://www.autointeriors.biz/AutoMat_Show.html
URL:http://www.autointeriors.biz/AutoMat_Show.html
CONTACT:(516)938-7373
ORGANIZER;CN="Roger from AutoMat":https://northeastwheelsevents.com/pr
 ofile/RogerfromAutoMat
ATTACH;FMTTYPE="image/jpeg":http://storage.ning.com/topology/rest/1.0/
 file/get/2174239498?profile=original
ATTENDEE;ROLE=REQ-PARTICIPANT;PARTSTAT=ACCEPTED;RSVP=TRUE;CN="Roger fr
 om AutoMat":https://northeastwheelsevents.com/profile/RogerfromAutoMat
END:VEVENT
END:VCALENDAR
