BEGIN:VCALENDAR
PRODID:NingEventWidget-v1
VERSION:2.0
METHOD:PUBLISH
BEGIN:VEVENT
UID:5167423:Event:63928
DTSTAMP:20260422T073008Z
SUMMARY:Automobile Auction
DESCRIPTION:Morphy Auctions will hold an automobile auction on May 16t
 h in Denver, PA. This auction will feature classic & antique cars & mo
 torcycles. Bidding can be done live, by phone, or online. \n\nFor mor
 e information visit https://northeastwheelsevents.com/events/automobil
 e-auction-1
DTSTART:20150516T130000Z
DTEND:20150516T180000Z
CATEGORIES:auto, auction
LOCATION:Morphy Auctions
WEBSITE:http://www.morphyauctions.com
URL:http://www.morphyauctions.com
CONTACT:717-335-3435
ORGANIZER:Morphy Auctions
ATTACH;FMTTYPE="image/jpeg":http://storage.ning.com/topology/rest/1.0/
 file/get/2284069491?profile=original
ATTENDEE;ROLE=REQ-PARTICIPANT;PARTSTAT=ACCEPTED;RSVP=TRUE;CN="Sarah St
 oltzfus":https://northeastwheelsevents.com/profile/SarahStoltzfus
END:VEVENT
END:VCALENDAR
