BEGIN:VCALENDAR
PRODID:NingEventWidget-v1
VERSION:2.0
METHOD:PUBLISH
BEGIN:VEVENT
UID:5167423:Event:64104
DTSTAMP:20260422T021430Z
SUMMARY:Automobile Auction
DESCRIPTION:On April 25th, in Las Vegas, Morphy Auctions will host an 
 automobile auction featuring antique cars and motorcycles. Bidding can
  be done in person, by phone or online. \n\nFor more information visi
 t https://northeastwheelsevents.com/events/automobile-auction
DTSTART:20150425T040000Z
DTEND:20150426T035900Z
CATEGORIES:auction
LOCATION:Las Vegas
WEBSITE:http://www.morphyauctions.com
URL:http://www.morphyauctions.com
CONTACT:702-382-2466
ORGANIZER;CN="Sarah Stoltzfus":https://northeastwheelsevents.com/profi
 le/SarahStoltzfus
ATTACH;FMTTYPE="image/jpeg":http://storage.ning.com/topology/rest/1.0/
 file/get/2284068352?profile=original
ATTENDEE;ROLE=REQ-PARTICIPANT;PARTSTAT=ACCEPTED;RSVP=TRUE;CN="Sarah St
 oltzfus":https://northeastwheelsevents.com/profile/SarahStoltzfus
END:VEVENT
END:VCALENDAR
