BEGIN:VCALENDAR
PRODID:NingEventWidget-v1
VERSION:2.0
METHOD:PUBLISH
BEGIN:VEVENT
UID:5167423:Event:134984
DTSTAMP:20260424T143341Z
SUMMARY:Autos and Ales at the AACA Museum, Hershey
DESCRIPTION:The regions’ best breweries, Live Music and Best Wing Co
 mpetition\n\n\n\n\nThis event is for individuals 21+ years or older ON
 LY. We encourage you to be safe and responsible. Don’t drink and dr
 ive.  The breweries for 2016 have started pouring in…\nVisit the si
 te for ALL the breweries!!!!\nBUY TICKETS NOW!!! Last few years, this 
 event was SOLD OUT!!!\n\n\n\n\n\n\nEntertainment on Three Floors, The 
 Luv Gods, Timeless Ban and Mixed Up Productions\nBeer themed novelties
 \n50/50 Cash Raffle and Door Prize Raffle to benefit JDRF [Juvenile Di
 abetes Research Fund]\n\n\n\n\n\n\n\n\n\n\n\n\nFor more information vi
 sit https://northeastwheelsevents.com/events/autos-and-ales-at-the-aac
 a-museum-hershey
DTSTART:20161104T220000Z
DTEND:20161105T020000Z
CATEGORIES:beer, tasting
LOCATION:AACA Museum
WEBSITE:http://www.aacamuseum.org
URL:http://www.aacamuseum.org
CONTACT:717 566-7100 x100
ORGANIZER:AACA Museum
ATTACH;FMTTYPE="image/jpeg":http://storage.ning.com/topology/rest/1.0/
 file/get/2284090243?profile=original
ATTENDEE;ROLE=REQ-PARTICIPANT;PARTSTAT=ACCEPTED;RSVP=TRUE;CN="Pamela H
 irschhorn":https://northeastwheelsevents.com/profile/PamelaHirschhorn
END:VEVENT
END:VCALENDAR
