BEGIN:VCALENDAR
PRODID:NingEventWidget-v1
VERSION:2.0
METHOD:PUBLISH
BEGIN:VEVENT
UID:5167423:Event:329522
DTSTAMP:20260422T161449Z
SUMMARY:Autumn Harvest Collector Car Show
DESCRIPTION:Join us at the Autumn Harvest Collector Car Show.\nOur ev
 ent is held annually at the Carnival Grounds in Manchester, Maryland.\
 nAll types of vehicles are welcome: cars, trucks, bikes - \noriginal 
 or modified. \nAwards - Food - Fun\nGate Registration only $15\nBring
  the kids! \n\nFor more information visit https://northeastwheelseven
 ts.com/events/autumn-harvest-collector-car-show-3
DTSTART:20240929T130000Z
DTEND:20240929T170000Z
CATEGORIES:collector, car, show
LOCATION:Manchester Carnival Grounds
WEBSITE:https://chesapeake.aaca.com
URL:https://chesapeake.aaca.com
CONTACT:4106888358
ORGANIZER:Tom Dawson
ATTACH;FMTTYPE="image/jpeg":https://storage.ning.com/topology/rest/1.0
 /file/get/12664151683?profile=original
ATTENDEE;ROLE=REQ-PARTICIPANT;PARTSTAT=ACCEPTED;RSVP=TRUE;CN="Harold D
 iehl":https://northeastwheelsevents.com/profile/HaroldDiehl
END:VEVENT
END:VCALENDAR
