BEGIN:VCALENDAR
PRODID:NingEventWidget-v1
VERSION:2.0
METHOD:PUBLISH
BEGIN:VEVENT
UID:5167423:Event:141483
DTSTAMP:20260423T033204Z
SUMMARY:back home
DESCRIPTION:Description is below.  Original screenshot of form is att
 ached as well as an attached photo.\n \nVeterans and their families f
 rom across Long Island will come together for this annual free event. 
 Come see beautiful bikes as well as custom and classic cars. Proceeds 
 from the event will benefit Suffolk County United Veterans which provi
 des housing and support services for homeless veterans. Live music, fo
 od and drinks, 50/50, vendors, raffle prizes, includes free breakfast 
 and buffet lunch. Poker run cash prizes, six trophy categories for car
 s. First 100 Registrants Receive a Free Commemorative T-Shirt. For inf
 o and registration, go to http://ksu.scuv.org.\n Spectators are free!
 !!\n\n\n\n\n\n\nFor more information visit https://northeastwheelseven
 ts.com/events/back-home
DTSTART:20170716T150000Z
DTEND:20170716T200000Z
CATEGORIES:fundraiser, motorcycle, poker, run, and, car, show
LOCATION:Association for Mental Health and Wellness
WEBSITE:
URL:
CONTACT:631 471-7242 ext 1329
ORGANIZER:Ruth McDade
ATTACH;FMTTYPE="image/jpeg":http://storage.ning.com/topology/rest/1.0/
 file/get/2284092587?profile=original
END:VEVENT
END:VCALENDAR
