BEGIN:VCALENDAR
PRODID:NingEventWidget-v1
VERSION:2.0
METHOD:PUBLISH
BEGIN:VEVENT
UID:5167423:Event:62224
DTSTAMP:20260422T213309Z
SUMMARY:Balloon Artist Fun Presented by Balloon Artist Cindy Zona of B
 alloon Works by The Party Girl
DESCRIPTION:Balloon Artist Cindy Zona of Balloon Works by The Party Gi
 rls\n\nFOR MORE INFO PLEASE GO TO: http://americaonwheels.org/\n\nFor
  more information visit https://northeastwheelsevents.com/events/ballo
 on-artist-fun-presented-by-balloon-artist-cindy-zona-of
DTSTART:20141226T160000Z
DTEND:20141226T173000Z
CATEGORIES:holiday, exhibit, events, family, kids, fun, trains, museum
LOCATION:America On Wheels Museum
WEBSITE:http://americaonwheels.org/
URL:http://americaonwheels.org/
CONTACT:610-432-4200
ORGANIZER;CN="America On Wheels Museum":https://northeastwheelsevents.
 com/profile/americaonwheels
ATTACH;FMTTYPE="image/jpeg":
ATTENDEE;ROLE=REQ-PARTICIPANT;PARTSTAT=ACCEPTED;RSVP=TRUE;CN="America 
 On Wheels Museum":https://northeastwheelsevents.com/profile/americaonw
 heels
END:VEVENT
END:VCALENDAR
