BEGIN:VCALENDAR
PRODID:NingEventWidget-v1
VERSION:2.0
METHOD:PUBLISH
BEGIN:VEVENT
UID:5167423:Event:47678
DTSTAMP:20260423T091948Z
SUMMARY:Bantam Jeep Heritage Festival
DESCRIPTION:Fourth annual Bantam Jeep Heritage Festival:\n\nJeep Invas
 ion in downtown Butler Friday night. Festival events at Cooper’s Lak
 e Campground all weekend. Off-road trails, Jeep Playground with mud pi
 t, WWII Encampment, history, vendors, Little Jeepers Playground and mo
 re.\n\nFriday, June 13 - 9 a.m. – 4 p.m.\nSaturday, June 14 - 9 a
 .m. - 6 p.m.\nSunday, June 15 - 9 a.m. -3 p.m.\n\nThe Bantam Jeep
  Heritage Festival is a tribute event for the father of all jeeps, the
  history behind it, the people who created it, and its birthplace, But
 ler, Pennsylvania. \n\nFor more information visit https://northeastwh
 eelsevents.com/events/bantam-jeep-heritage-festival
DTSTART:20140613T130000Z
DTEND:20140615T190000Z
CATEGORIES:festival, show
LOCATION:Coopers' Lake Campground
WEBSITE:http://www.bantamjeepfestival.com/
URL:http://www.bantamjeepfestival.com/
CONTACT:7242342291
ORGANIZER:Butler County Tourism & Convention Bureau
ATTACH;FMTTYPE="image/jpeg":http://storage.ning.com/topology/rest/1.0/
 file/get/2284063360?profile=original
ATTENDEE;ROLE=REQ-PARTICIPANT;PARTSTAT=ACCEPTED;RSVP=TRUE;CN="Butler C
 ounty Tourism":https://northeastwheelsevents.com/profile/ButlerCountyT
 ourism
END:VEVENT
END:VCALENDAR
