BEGIN:VCALENDAR
PRODID:NingEventWidget-v1
VERSION:2.0
METHOD:PUBLISH
BEGIN:VEVENT
UID:5167423:Event:232637
DTSTAMP:20260421T224510Z
SUMMARY:BBC Brass Car Show Flea Market
DESCRIPTION:Largest Brass ERA Car Show and Flea Market On The East Coa
 st\n\nFor more information visit https://northeastwheelsevents.com/eve
 nts/bbc-brass-car-show-amp-flea-market
DTSTART:20190519T120000Z
DTEND:20190519T190000Z
CATEGORIES:brass, car, show
LOCATION:PA Railroad Museum Strausburg, PA
WEBSITE:
URL:
CONTACT:717-383-0360
ORGANIZER;CN="Patrick Gamble":https://northeastwheelsevents.com/profil
 e/PatrickGamble
ATTACH;FMTTYPE="image/jpeg":https://storage.ning.com/topology/rest/1.0
 /file/get/934016365?profile=original
ATTENDEE;ROLE=REQ-PARTICIPANT;PARTSTAT=ACCEPTED;RSVP=TRUE;CN="Patrick 
 Gamble":https://northeastwheelsevents.com/profile/PatrickGamble
END:VEVENT
END:VCALENDAR
