BEGIN:VCALENDAR
PRODID:NingEventWidget-v1
VERSION:2.0
METHOD:PUBLISH
BEGIN:VEVENT
UID:5167423:Event:232641
DTSTAMP:20260422T015059Z
SUMMARY:BBC Brass Car Tour
DESCRIPTION:National HCCA BBC Tour 85 Cars Pre 1916\n\nFor more inform
 ation visit https://northeastwheelsevents.com/events/bbc-brass-car-tou
 r
DTSTART:20190520T120000Z
DTEND:20190523T220000Z
CATEGORIES:hcca, national, tour
LOCATION:Clarion Inn Strausburg, PA
WEBSITE:
URL:
CONTACT:717-383-0360
ORGANIZER;CN="Patrick Gamble":https://northeastwheelsevents.com/profil
 e/PatrickGamble
ATTACH;FMTTYPE="image/jpeg":https://storage.ning.com/topology/rest/1.0
 /file/get/934028035?profile=original
ATTENDEE;ROLE=REQ-PARTICIPANT;PARTSTAT=ACCEPTED;RSVP=TRUE;CN="Patrick 
 Gamble":https://northeastwheelsevents.com/profile/PatrickGamble
END:VEVENT
END:VCALENDAR
