BEGIN:VCALENDAR
PRODID:NingEventWidget-v1
VERSION:2.0
METHOD:PUBLISH
BEGIN:VEVENT
UID:5167423:Event:201676
DTSTAMP:20260425T124512Z
SUMMARY:Bel Air Car Cruise
DESCRIPTION:Car cruise at the Bel Air on Sunday September 23, 2018 fro
 m 4pm to 8pm\n\nFor more information visit https://northeastwheelseven
 ts.com/events/bel-air-car-cruise
DTSTART:20180923T200000Z
DTEND:20180924T000000Z
CATEGORIES:car, cruise
LOCATION:Bel Air Ice Cream
WEBSITE:
URL:
CONTACT:(484)415-5881
ORGANIZER;CN="Eva Vardaxis":https://northeastwheelsevents.com/profile/
 EvaVardaxis
ATTACH;FMTTYPE="image/jpeg":http://storage.ning.com/topology/rest/1.0/
 file/get/2284110942?profile=original
ATTENDEE;ROLE=REQ-PARTICIPANT;PARTSTAT=ACCEPTED;RSVP=TRUE;CN="Frank St
 ankus":https://northeastwheelsevents.com/profile/FrankStankus
ATTENDEE;ROLE=REQ-PARTICIPANT;PARTSTAT=ACCEPTED;RSVP=TRUE;CN="Eva Vard
 axis":https://northeastwheelsevents.com/profile/EvaVardaxis
END:VEVENT
END:VCALENDAR
