BEGIN:VCALENDAR
PRODID:NingEventWidget-v1
VERSION:2.0
METHOD:PUBLISH
BEGIN:VEVENT
UID:5167423:Event:344618
DTSTAMP:20260424T024345Z
SUMMARY:Belleville's Food Truck Fest & Classic Car Show
DESCRIPTION:Please bring chairs and/or a blanket and make yourself com
 fortable. Think of this as a tailgate... except you can't bring food o
 r alcohol. Although, there will be a beer/sangria/margarita garden on 
 site!  Belleville's Food Truck Fest, featuring DJs and Classic Car Sho
 w will feature 17 quality Food Trucks, Beer Garden, bungee trampoline,
  rock climbing wall, Face Painting, pony rides, petting zoo, inflatabl
 es, miniature golf, vendors, bounce house and a Classic Car Show. Musi
 c: Djs  FREE Admission  Beer Garden to feature: - Summer Honey Golden 
 Ale - Oktoberfest - Traditional Oktoberfest German Style Lager - Flemi
 ngton Fog IPA - Plucky Sour - Blood Orange Sour Ale - strawberry & reg
 ular Margaritas & Daiquiris - strawberry vodka lemonade - Sangria - re
 d/white  Current List of Food Trucks: â€¢ Angry Archies â€¢ Chow Wow â
 €¢ Cold Stone Catering â€¢ Cubita Truck â€¢ Dagastino's Desserts â€¢ E
 l Lechon De Negron â€¢ Empanada Mania â€¢ Hold My Knots â€¢ Johnny Zep
 poli â€¢ Kielbasa N More â€¢ Kimchi Smoke â€¢ Lomo Truck â€¢ Rolling P
 ita â€¢ Sandwich Freak â€¢ Senor Tacos â€¢ The Quarry â€¢ Uncle Sal's 
 Gourmet Egg Rolls  Belleville High School 100 Passaic Ave, Belleville 
 FREE ADMISSION\n\nFor more information visit https://northeastwheelsev
 ents.com/events/belleville-s-food-truck-fest-classic-car-show
DTSTART:20251004T180000Z
DTEND:20251005T010000Z
CATEGORIES:carshow
LOCATION:Belleville High School
WEBSITE:https://allevents.in/belleville/bellevilles-food-truck-fest-an
 d-classic-car-show/200028640298707
URL:https://allevents.in/belleville/bellevilles-food-truck-fest-and-cl
 assic-car-show/200028640298707
CONTACT:justjerseyfest.com
ORGANIZER:Just Jersey Fest
ATTACH;FMTTYPE="image/jpeg":https://storage.ning.com/topology/rest/1.0
 /file/get/13718022066?profile=original
ATTENDEE;ROLE=REQ-PARTICIPANT;PARTSTAT=ACCEPTED;RSVP=TRUE;CN="William 
 Bruce":https://northeastwheelsevents.com/profile/WilliamBruce
END:VEVENT
END:VCALENDAR
