BEGIN:VCALENDAR
PRODID:NingEventWidget-v1
VERSION:2.0
METHOD:PUBLISH
BEGIN:VEVENT
UID:5167423:Event:330411
DTSTAMP:20260421T140736Z
SUMMARY:Bentley's Cruisin' Night Tuesday Car Shows
DESCRIPTION:. Bentley's Cruisin' Night Tuesday Car Shows from 5 pm til
  dusk (May 12 through Sept 17, 2024, unless good weather, we'll go 3 m
 ore weeks.  All special interest cars are welcome and it's one of our
  favorite nights of the week to get together to enjoy the show and cam
 araderie. Often times there are more than 100 cars on display! There a
 re no entry fees for car show owners or spectators. Car show owners re
 ceive door prizes, spectator choice awards and a chance to win a FREE 
 toolbox valued over $1,000 thanks to Gear Wrench and our local Biddefo
 rd Sanel NAPA Auto Parts Store. We offer cash raffles for everyone to
  participate and donate a portion of the money to our Town of Arundel'
 s Holiday Program for local residents in need of a helping hand during
  the holiday season. In 2023, we were able to donate $2,270 thanks to 
 our car show and museum guests!\r\n\r\nAt a couple of our Cruisin' Nig
 ht Tuesday Shows we have special features - Hot Rods (1948 & older) an
 d Rat Rods on June 18, 2024, and Antique Cars 1957 and older July 23, 
 2024. We also host a Truck Show, all types of trucks, on Sunday,  Aug
 ust 18, 10 am til 2 pm (rain date August 25). All special interest veh
 icles are welcome at these feature shows. However, the spectator choic
 e voting is on the featured event vehicles.\r\nBentley’s Saloon is p
 roud to announce that 2024 is our 20 Year Anniversary!  Legendary rac
 e car driver Bentley Warren purchased the small one-room bar in 2004, 
 and we never dreamed it would be a Maine destination place!  Bentley
 's is located on 80 acres on Route One in Arundel, Maine (southeast co
 ast, just north of Kennebunk). Now, there are indoor and outdoor bars,
  a friendly Backyard style courtyard, a cornhole area and stages for l
 ive entertainment.    Our mission is to welcome everyone with such a
  fun time that they can't wait to come back before they leave!!  Don'
 t let Bentley's fool you, we're not just a bar, you don't have to drin
 k to have fun with us!  We have weekly car shows, live music and ente
 rtainment daily, motorcycle shows, costume parties, cornhole tournamen
 ts and the list goes on.  RV sites too! \r\nWhether on two wheels or
  four wheels, come for a visit and see why our favorite saying is \"Wh
 o has more fun than us? .... We do!\" \r\nCheck out the website for al
 l the info. \r\nOther info. Email:info@bentleyssaloon.com \r\nCheck o
 ther car show at https://carsandcoffeeevents.com\n\nFor more informati
 on visit https://northeastwheelsevents.com/events/bentley-s-cruisin-ni
 ght-tuesday-car-shows
DTSTART:20240716T210000Z
DTEND:20240717T010000Z
CATEGORIES:cruisein, charity
LOCATION:Bentley's Saloon
WEBSITE:https://bentleyssaloon.com
URL:https://bentleyssaloon.com
CONTACT:207-985-8966
ORGANIZER:Bentley Warren
ATTACH;FMTTYPE="image/jpeg":https://storage.ning.com/topology/rest/1.0
 /file/get/12737780456?profile=original
ATTENDEE;ROLE=REQ-PARTICIPANT;PARTSTAT=ACCEPTED;RSVP=TRUE;CN="William 
 Bruce":https://northeastwheelsevents.com/profile/WilliamBruce
END:VEVENT
END:VCALENDAR
