BEGIN:VCALENDAR
PRODID:NingEventWidget-v1
VERSION:2.0
METHOD:PUBLISH
BEGIN:VEVENT
UID:5167423:Event:330518
DTSTAMP:20260423T065300Z
SUMMARY:Bentley's Second Tractor Show
DESCRIPTION:We hosted our first Tractor Show in 2023!   It was so we
 ll attended with 50 tractors, including four Hit & Miss Engines on dis
 play and spectators that we all voted to have another show in 2024 dur
 ing Columbus Day Weekend on October 13, Sunday from 10 am til 2 pm. Ra
 in or Shine! Free breakfast, 8am-11am, for all tractor owners who brin
 g their tractors to display! You can setup your display before 10am. R
 V sites available. \r\nSpectator Choice Awards, Door Prizes, Cash Raf
 fles! Kids Welcome! Hot Mess, country band performs, 1pm-5pm! \r\n\r\
 nBentley attends most of the shows, and it’s a perfect opportunity t
 o meet him and get his “Wicked Fast” book signed! Free tours on th
 e Bentley’s Bus to Bentley’s Toyhouse filled with his private coll
 ection of cars, race cars and motorcycles are offered at most shows an
 d on Saturday mornings at 10 am when the saloon is open.\r\nFor more i
 nfo. Email: info@bentleyssaloon.com or check website. \r\nFor other s
 how info. https://carsandcoffeeevents.com\n\nFor more information visi
 t https://northeastwheelsevents.com/events/bentley-s-second-tractor-sh
 ow
DTSTART:20241013T140000Z
DTEND:20241013T210000Z
CATEGORIES:tractorshow, charity
LOCATION:Bentley's Saloon
WEBSITE:https://bentleyssaloon.com
URL:https://bentleyssaloon.com
CONTACT:207-985-8966
ORGANIZER:Bentley Warren
ATTACH;FMTTYPE="image/jpeg":https://storage.ning.com/topology/rest/1.0
 /file/get/12737804675?profile=original
ATTENDEE;ROLE=REQ-PARTICIPANT;PARTSTAT=ACCEPTED;RSVP=TRUE;CN="William 
 Bruce":https://northeastwheelsevents.com/profile/WilliamBruce
END:VEVENT
END:VCALENDAR
