BEGIN:VCALENDAR
PRODID:NingEventWidget-v1
VERSION:2.0
METHOD:PUBLISH
BEGIN:VEVENT
UID:5167423:Event:341189
DTSTAMP:20260423T133734Z
SUMMARY:Bentley's Stunt Riders Show
DESCRIPTION:Enjoy Professional Stunt Rider Shows?  Motorcycle Freesty
 le Stunt Shows! Saturday, October 4th we have three shows at noon, 2 a
 nd 4 pm with Sick Nick and Bananas!! Nick Karipis (@sicknicnac) and Jo
 ey Charron (@joey_bananas_66)! Free Shows! Cruise in with your bikes! 
 Live Bands: Down Cellah 2pm-6pm and Hot Mess 7pm-11pm. Cold Beer and G
 ood Food, always! \n\nFor more information visit https://northeastwhe
 elsevents.com/events/bentley-s-stunt-riders-show-1
DTSTART:20251005T160000Z
DTEND:20251006T000000Z
CATEGORIES:stuntriders, cruisein
LOCATION:Bentley's Saloon
WEBSITE:https://bentleyssaloon.com
URL:https://bentleyssaloon.com
CONTACT:207-985-8966
ORGANIZER:Bentley Warren
ATTACH;FMTTYPE="image/jpeg":https://storage.ning.com/topology/rest/1.0
 /file/get/12741111866?profile=original
ATTENDEE;ROLE=REQ-PARTICIPANT;PARTSTAT=ACCEPTED;RSVP=TRUE;CN="William 
 Bruce":https://northeastwheelsevents.com/profile/WilliamBruce
END:VEVENT
END:VCALENDAR
