BEGIN:VCALENDAR
PRODID:NingEventWidget-v1
VERSION:2.0
METHOD:PUBLISH
BEGIN:VEVENT
UID:5167423:Event:335074
DTSTAMP:20260423T152435Z
SUMMARY:Berks' Best Trunk-or-Treat!
DESCRIPTION:When we were kids, Halloween was one of our most favorite 
 holidays! And we’re pretty sure it’s your kids’, too. They get h
 yped and happy when they hear a Halloween party is coming… And it’
 s located right in the neighborhood! If you want, bring your classic c
 ar, truck or bike to join. \r\n 👻 AWESOME COSTUME CONTESTS!! 👻 
 It's not Halloween without costumes! So, bust out the \"DIY\"er in you
 , and get your heart ready for the cutest princesses, superheroes, mon
 sters, and wizards in Berk. If your child arrives with the best costum
 e - prizes await!  🍭 OVER 500 POUNDS OF CANDY! 🍭 Aside from host
 ing the largest gathering of tiny humanoid sweet tooths in Berk, we ar
 e going to make this an unforgettable event for the whole family! We h
 ave enough candy and prizes for the entire town!  🚘 THE BEST DECORA
 TED CARS 🚘 Our parent volunteers get really into their car decorati
 ng abilities. Last year featured car themes like Super Heroes, Graveya
 rds, Grease Lightning, Minecraft, and more! We will see who walks away
  with the Trophy for Berk's Best Trunk this year!  Don’t let your fa
 mily miss the most popular Trunk or Treat in all of Berk. Grab your sp
 ot now!  Registration is open - follw this link to pre-register (if yo
 u do not pre-register, you wil not be guaranteed a spot!) - https://f
 unnels.wyomissingmartialarts.com/trunk-or-treat-2024\r\n\n\nFor more i
 nformation visit https://northeastwheelsevents.com/events/berks-best-t
 runk-or-treat
DTSTART:20241012T190000Z
DTEND:20241012T200000Z
CATEGORIES:trunkortreat, cruise-in
LOCATION:Up Keep Home Service
WEBSITE:https://allevents.in/reading/berks-best-trunk-or-treat/2000272
 12866521
URL:https://allevents.in/reading/berks-best-trunk-or-treat/20002721286
 6521
CONTACT:610) 223-5414
ORGANIZER:Up Keep Home Service, 96 Commerce Dr, Reading, PA 19610
ATTACH;FMTTYPE="image/jpeg":https://storage.ning.com/topology/rest/1.0
 /file/get/13012392668?profile=original
ATTENDEE;ROLE=REQ-PARTICIPANT;PARTSTAT=ACCEPTED;RSVP=TRUE;CN="William 
 Bruce":https://northeastwheelsevents.com/profile/WilliamBruce
END:VEVENT
END:VCALENDAR
