BEGIN:VCALENDAR
PRODID:NingEventWidget-v1
VERSION:2.0
METHOD:PUBLISH
BEGIN:VEVENT
UID:5167423:Event:250433
DTSTAMP:20260420T003411Z
SUMMARY:Best Car Show (Southeastern PA) Nominations
DESCRIPTION:Ongoing - taking nominations for \"People's Choice\" for B
 EST CAR SHOW of 2019 in Southeastern PA.  Go to www.carsmartsradio.co
 m and then email with your nomination. \n\nAfter September, we will p
 ost a voting poll and award the show picked as \"favorite\" by the mos
 t people!!  We will present a trophy which will circulate to the winn
 ers each year (like the stanley cup!) and will be expanding into other
  regions very soon.\n\nFor more information visit https://northeastwhe
 elsevents.com/events/best-car-show-southeastern-pa-nominations
DTSTART:20190730T220000Z
DTEND:20190930T230000Z
CATEGORIES:awards
LOCATION:Southeastern PA
WEBSITE:http://www.carsmartsradio.com
URL:http://www.carsmartsradio.com
CONTACT:
ORGANIZER;CN="Steven Saffier":https://northeastwheelsevents.com/profil
 e/StevenSaffier
ATTACH;FMTTYPE="image/jpeg":https://storage.ning.com/topology/rest/1.0
 /file/get/3396149176?profile=original
ATTENDEE;ROLE=REQ-PARTICIPANT;PARTSTAT=ACCEPTED;RSVP=TRUE;CN="Steven S
 affier":https://northeastwheelsevents.com/profile/StevenSaffier
END:VEVENT
END:VCALENDAR
