BEGIN:VCALENDAR
PRODID:NingEventWidget-v1
VERSION:2.0
METHOD:PUBLISH
BEGIN:VEVENT
UID:5167423:Event:238863
DTSTAMP:20260422T153311Z
SUMMARY:Bethesda EC Church 5th Annual Car, Truck, & Motorcycle Show
DESCRIPTION:$10 PRE-REGISTRATION; $15 DAY OF THE SHOW 100% of proceeds
  benefit Bethesda EC and Grace EC Youth Ministries Summer 2019 Mission
 s Work Team  Dash plaques & goodie bags to FIRST 75 registered cars. L
 ive music with the Radioactive Munsters, Door prizes, lots of food, ba
 ke sale, and silent auction. Special door prize drawings for pre-regis
 tered cars only, which include: (1) $50 gas card; and (2) $25 gas card
 s, so get your registration in early!!!  The kitchen will be open with
  freshly grilled hamburgers & hot dogs, BBQ, homemade baked goods, sof
 t pretzels, Yuengling Ice Cream and Grandma Hazel’s fresh squeezed l
 emonade. There will also be \"BYM Pick-A-Prize\" (similar to a Chinese
  Auction) with items donated from our vendors. All proceeds from the e
 vent go directly to supporting Bethesda EC and Grace EC Church's summe
 r mission trip, so come on out and support our youth!!  Registration: 
 10:00 am to 12:30 pm Judging: 12:30 - 1:30 pm Awards: 2:00 pm  Trophie
 s will be given for the Top 3 in the following classes: 1948 and Older
  1949-1960 1961-1968 1969-1972 1973-1989  1990 to Present Motorcycle R
 at/Street Rod Truck Mustang Jeep Corvette Modern Mopar (1990+) People'
 s Choice  This is a fun, peer judged event, all vehicles welcome!!! An
 y questions or concerns should be directed to Lisa Minnich at 484-294-
 6765 or treasurer@bethesdaec.org.  Truck/trailer parking available rig
 ht across the street from the event. Call Lisa for details.  THIS EVEN
 T WILL BE HELD RAIN OR SHINE, NO REFUNDS\n\nFor more information visit
  https://northeastwheelsevents.com/events/bethesda-ec-church-5th-annua
 l-car-truck-amp-motorcycle-show
DTSTART:20190525T140000Z
DTEND:20190525T180000Z
CATEGORIES:car, truck, "&amp", motorcycle, show
LOCATION:Bethesda EC Church
WEBSITE:http://www.bethesdaec.org
URL:http://www.bethesdaec.org
CONTACT:570-739-2241 Ext 224
ORGANIZER;CN="Lisa Minnich":https://northeastwheelsevents.com/profile/
 LisaMinnich
ATTACH;FMTTYPE="image/jpeg":https://storage.ning.com/topology/rest/1.0
 /file/get/1244899644?profile=original
ATTENDEE;ROLE=REQ-PARTICIPANT;PARTSTAT=ACCEPTED;RSVP=TRUE;CN="Lisa Min
 nich":https://northeastwheelsevents.com/profile/LisaMinnich
ATTENDEE;ROLE=REQ-PARTICIPANT;PARTSTAT=TENTATIVE;RSVP=TRUE;CN="Blaine 
 McKivison":https://northeastwheelsevents.com/profile/BlaineMcKivison
END:VEVENT
END:VCALENDAR
