BEGIN:VCALENDAR
PRODID:NingEventWidget-v1
VERSION:2.0
METHOD:PUBLISH
BEGIN:VEVENT
UID:5167423:Event:169006
DTSTAMP:20260422T093221Z
SUMMARY:BHS Vintage Car Show
DESCRIPTION:Ride back in time with our classic car show! A variety of 
 vintage and antique automobiles will be showcased on the lawn at Fort 
 Totten Castle. Complimentary lite breakfast from 9:00-11:00am. The car
  show is presented by the Long Island Sound Region of the Classic Car 
 Club of America, in conjunction with Bayside Historical Society\n\nFor
  more information visit https://northeastwheelsevents.com/events/bhs-v
 intage-car-show
DTSTART:20171112T140000Z
DTEND:20171112T200000Z
CATEGORIES:car, show
LOCATION:Bayside Historical Society
WEBSITE:
URL:
CONTACT:Jim Barnes at 917-428-4499 or jimbarnes05@aol.com.
ORGANIZER:Long Island Sound Region of the Classic Car Club of America
ATTACH;FMTTYPE="image/jpeg":http://storage.ning.com/topology/rest/1.0/
 file/get/2284100487?profile=original
ATTENDEE;ROLE=REQ-PARTICIPANT;PARTSTAT=ACCEPTED;RSVP=TRUE;CN="Pamela H
 irschhorn":https://northeastwheelsevents.com/profile/PamelaHirschhorn
END:VEVENT
END:VCALENDAR
