BEGIN:VCALENDAR
PRODID:NingEventWidget-v1
VERSION:2.0
METHOD:PUBLISH
BEGIN:VEVENT
UID:5167423:Event:62227
DTSTAMP:20260422T181315Z
SUMMARY:Big Dipper New Year's Eve Daytime Party
DESCRIPTION:Big Dipper New Year's Eve Daytime Party for the whole fami
 ly. (Reservations Suggested - 610-432-4200 x14)\n\nFOR MORE INFO PLEAS
 E GO TO: http://americaonwheels.org/\n\nFor more information visit ht
 tps://northeastwheelsevents.com/events/big-dipper-new-year-s-eve-dayti
 me-party
DTSTART:20141228T173000Z
DTEND:20141228T200000Z
CATEGORIES:holiday, exhibit, events, family, kids, fun, trains, museum
LOCATION:America On Wheels Museum
WEBSITE:http://americaonwheels.org/
URL:http://americaonwheels.org/
CONTACT:610-432-4200
ORGANIZER;CN="America On Wheels Museum":https://northeastwheelsevents.
 com/profile/americaonwheels
ATTACH;FMTTYPE="image/jpeg":
ATTENDEE;ROLE=REQ-PARTICIPANT;PARTSTAT=ACCEPTED;RSVP=TRUE;CN="America 
 On Wheels Museum":https://northeastwheelsevents.com/profile/americaonw
 heels
END:VEVENT
END:VCALENDAR
