BEGIN:VCALENDAR
PRODID:NingEventWidget-v1
VERSION:2.0
METHOD:PUBLISH
BEGIN:VEVENT
UID:5167423:Event:339641
DTSTAMP:20260424T130028Z
SUMMARY:BIG EAST CLASSIC SHOW
DESCRIPTION:.THE 5TH ANNUAL EVENT WILL BE HELD AT THE N.Y. STATE FAIRG
 ROUNDS,SYRACUSE N.Y. 8AM-3PM,15 JUDGED CLASSES,1ST-3RD AWARDS,DASH PLA
 QUES,50/50 RAFFLE,ALL ENTRANTS GET FREE ADMISSION TO THE SNOW GOER POW
 ERSPORTS SHOW AT THE EXPO CENTER,SLEDS WILL BE DISLAYED IN FRONT OF TH
 E EXPO CENTER IN THE LARGE PAVED PARKING LOT,SLEDS WILL BE UNLOADED AN
 D LINED UP AS YOU ARRIVE,CONTACT ME WITH QUESTIONS ETC,THANKS SNOW GOE
 R MAGAZINE,THANKS FOR THIS SITE!! For info. Call Ron @ 315-415-5025. O
 r email msrvintage@yahool.com. Check for more info. and future show sc
 hedules. https://vintagesleds.com/events/\n\nFor more information vis
 it https://northeastwheelsevents.com/events/big-east-classic-show
DTSTART:20251004T120000Z
DTEND:20251004T190000Z
CATEGORIES:snowmobileshow, swapparts, sales
LOCATION:NYs Fairgrounds
WEBSITE:https://vintagesleds.com/events/
URL:https://vintagesleds.com/events/
CONTACT:315-415-5025
ORGANIZER:Ron
ATTACH;FMTTYPE="image/jpeg":https://storage.ning.com/topology/rest/1.0
 /file/get/12232724668?profile=original
ATTENDEE;ROLE=REQ-PARTICIPANT;PARTSTAT=ACCEPTED;RSVP=TRUE;CN="William 
 Bruce":https://northeastwheelsevents.com/profile/WilliamBruce
END:VEVENT
END:VCALENDAR
