BEGIN:VCALENDAR
PRODID:NingEventWidget-v1
VERSION:2.0
METHOD:PUBLISH
BEGIN:VEVENT
UID:5167423:Event:36375
DTSTAMP:20260425T153917Z
SUMMARY:Big Rig Nationals
DESCRIPTION:A unique all-truck event! This is a Saturday event where t
 ruckers can either race or show. There will be a huge truck show, vend
 or midway and classes for every type of truck from minis to big rigs.\
 n\n\nFor more information visit https://northeastwheelsevents.com/even
 ts/big-rig-nationals
DTSTART:20140628T040000Z
DTEND:20140629T035900Z
CATEGORIES:truck, rigs, truckers, race, show
LOCATION:Maryland International Raceway
WEBSITE:http://www.mirdrag.com/
URL:http://www.mirdrag.com/
CONTACT:(301) 884-9833
ORGANIZER;CN="Maryland International Raceway":https://northeastwheelse
 vents.com/profile/MarylandInternationalRaceway
ATTACH;FMTTYPE="image/jpeg":http://storage.ning.com/topology/rest/1.0/
 file/get/2284056029?profile=original
ATTENDEE;ROLE=REQ-PARTICIPANT;PARTSTAT=ACCEPTED;RSVP=TRUE;CN="Maryland
  International Raceway":https://northeastwheelsevents.com/profile/Mary
 landInternationalRaceway
END:VEVENT
END:VCALENDAR
