BEGIN:VCALENDAR
PRODID:NingEventWidget-v1
VERSION:2.0
METHOD:PUBLISH
BEGIN:VEVENT
UID:5167423:Event:328973
DTSTAMP:20260421T123425Z
SUMMARY:Bike and Car Cruise In
DESCRIPTION:Join us for a day of reeling raffles, blazing bikes, and c
 ool cars!\n\nFor more information visit https://northeastwheelsevents.
 com/events/bike-and-car-cruise-in
DTSTART:20240714T130000Z
DTEND:20240714T170000Z
CATEGORIES:fundraiser
LOCATION:Douglassville, PA
WEBSITE:
URL:
CONTACT:4843669925
ORGANIZER;CN="American Legion Riders post 626":https://northeastwheels
 events.com/profile/AmericanLegionRiderspost626
ATTACH;FMTTYPE="image/jpeg":https://storage.ning.com/topology/rest/1.0
 /file/get/12640539864?profile=original
ATTENDEE;ROLE=REQ-PARTICIPANT;PARTSTAT=ACCEPTED;RSVP=TRUE;CN="American
  Legion Riders post 626":https://northeastwheelsevents.com/profile/Ame
 ricanLegionRiderspost626
END:VEVENT
END:VCALENDAR
