BEGIN:VCALENDAR
PRODID:NingEventWidget-v1
VERSION:2.0
METHOD:PUBLISH
BEGIN:VEVENT
UID:5167423:Event:37870
DTSTAMP:20260423T181459Z
SUMMARY:Bike the Burg Harrisburg PA Women on Bicycles
DESCRIPTION:Come to a special meeting of Bike Harrisburg especially fo
 r women. Meet other women interested in biking for fun and fitness. Le
 arn the laws and safety requirements and even some bike maintenance. B
 ring your bike or just walk or drive! All are welcome. \n\nFor more i
 nformation visit https://northeastwheelsevents.com/events/bike-the-bur
 g-harrisburg-pa-women-on-bicycles
DTSTART:20140326T230000Z
DTEND:20140327T000000Z
CATEGORIES:bike, harrisburg, bicycle
LOCATION:Midtown Scholar Bookstore
WEBSITE:http://www.BikeHarrisburg.org
URL:http://www.BikeHarrisburg.org
CONTACT:717 571-2008
ORGANIZER:Ross Willard
ATTACH;FMTTYPE="image/jpeg":http://storage.ning.com/topology/rest/1.0/
 file/get/2284055451?profile=original
ATTENDEE;ROLE=REQ-PARTICIPANT;PARTSTAT=ACCEPTED;RSVP=TRUE;CN="Pamela H
 irschhorn":https://northeastwheelsevents.com/profile/PamelaHirschhorn
END:VEVENT
END:VCALENDAR
