BEGIN:VCALENDAR
PRODID:NingEventWidget-v1
VERSION:2.0
METHOD:PUBLISH
BEGIN:VEVENT
UID:5167423:Event:348974
DTSTAMP:20260420T170447Z
SUMMARY:Bimmers vs. The World: Tristate Season Opener 4/12/2026
DESCRIPTION:What you’ve all been waiting for, The Ultimate Season Op
 ener returns 4.12.26 🔥#BimmersVStheWorld Details & Registrations dr
 ops this Friday at noon! #ForTheCommunity #ByTheCommunity\r\n\r\n\r\n\
 r\n\r\n\r\n\r\n\r\n\r\n\r\n\r\n\r\n\r\n\r\nThe only event to bring you
  Rally - Race - Razzle Dazzle all in one action-packed day 🔥  ☑
  FREE Rally to the event 🏎️ ☑️ Judged Car Show 🏆 ☑️ F
 ully Prepped 1/4 mi Drag & Roll Racing 🏁 ☑️ 2-Step Contest 🎶
  ☑️ Drift Exhibition 💨 ☑️ Raffles & Giveaways 🎁 ☑️ V
 endors Catered to 🫵 ☑️ Full Media Coverage 🎥  Yes, Roll-Raci
 ng is BACK! Full track dedicated to drag & roll racers all day into th
 e night!  Sponsor/Vendor inquiries, please email us at Bimmersunited@
 gmail.com https://www.maplegroveraceway.com/  Greatest Season Opener 
 loading and it will be the best one yet! See you all soon 🫶\r\n\r\n
 \r\n\r\n\r\n\r\n\n\nFor more information visit https://northeastwheels
 events.com/events/bimmers-vs-the-world-tristate-season-opener-4-12-202
 6
DTSTART:20260412T130000Z
DTEND:20260412T230000Z
CATEGORIES:carshow, trackaction
LOCATION:Maple Grove Raceway
WEBSITE:https://allevents.in/bowmansville/tristate-season-opener-4-12-
 2026/200029762855529
URL:https://allevents.in/bowmansville/tristate-season-opener-4-12-2026
 /200029762855529
CONTACT:610-856-9200
ORGANIZER:BimmersVStheWorld
ATTACH;FMTTYPE="image/jpeg":https://storage.ning.com/topology/rest/1.0
 /file/get/31110345477?profile=original
ATTENDEE;ROLE=REQ-PARTICIPANT;PARTSTAT=ACCEPTED;RSVP=TRUE;CN="William 
 Bruce":https://northeastwheelsevents.com/profile/WilliamBruce
END:VEVENT
END:VCALENDAR
